BEGIN:VCALENDAR
VERSION:2.0
PRODID:Events Booking
BEGIN:VEVENT
UID:69e820858a401
SUMMARY:MAT APNEA SCHOOL
DESCRIPTION:Il nostro corso copre tutti gli aspetti dell’apnea\, dalle ba
 si teoriche alle tecniche avanzate di respirazione e rilassamento\, con le
 zioni pratiche in piscina e mare aperto per un apprendimento sicuro e comp
 leto.
DTSTART:20260421T180000Z
DTEND:20260421T210000Z
DTSTAMP:20260421T192332Z
ORGANIZER;CN=Factory Grisù:MAILTO:info@factorygrisu.it
END:VEVENT
END:VCALENDAR