BEGIN:VCALENDAR
VERSION:2.0
PRODID:Events Booking
BEGIN:VEVENT
UID:69e8184092fba
SUMMARY:GRISÙ 451 Festival delle Parole
DESCRIPTION:Nel 2026\, Grisù 451 – Festival delle parole\, sarà il port
 o sicuro per chi cerca risposte\, ma soprattutto per chi ama il brivido de
 lla deriva letteraria.
DTSTART:20260419T130000Z
DTEND:20260419T204900Z
DTSTAMP:20260421T184939Z
ORGANIZER;CN=Factory Grisù:MAILTO:info@factorygrisu.it
END:VEVENT
END:VCALENDAR