BEGIN:VCALENDAR
VERSION:2.0
PRODID:Events Booking
BEGIN:VEVENT
UID:69e816e0cc849
SUMMARY:GRISÙ 451 Festival delle Parole
DESCRIPTION:Nel 2026\, Grisù 451 – Festival delle parole\, sarà il port
 o sicuro per chi cerca risposte\, ma soprattutto per chi ama il brivido de
 lla deriva letteraria.
LOCATION:Via Mario Poledrelli\, 21\, 44121 Ferrara FE\, Italia
DTSTART:20260417T160000Z
DTEND:20260417T214800Z
DTSTAMP:20260421T184939Z
ORGANIZER;CN=Factory Grisù:MAILTO:info@factorygrisu.it
GEO:44.841875;11.608914
X-APPLE-STRUCTURED-LOCATION;VALUE=URI;X-ADDRESS=Via Mario Poledrelli\, 21\,
  44121 Ferrara FE\, Italia;X-APPLE-RADIUS=72;X-TITLE=Factory Grisù:44.841
 875;11.608914
END:VEVENT
END:VCALENDAR