BEGIN:VCALENDAR
VERSION:2.0
PRODID:Events Booking
BEGIN:VEVENT
UID:69e821bfd6a12
SUMMARY:festival symeoni
DESCRIPTION:
DTSTART:20260418T070000Z
DTEND:20260418T150000Z
DTSTAMP:20260421T192602Z
ORGANIZER;CN=Factory Grisù:MAILTO:info@factorygrisu.it
END:VEVENT
END:VCALENDAR