BEGIN:VCALENDAR
VERSION:2.0
PRODID:Events Booking
BEGIN:VEVENT
UID:69e8217c9f933
SUMMARY:Ferrara\, un territorio d'acqua
DESCRIPTION:Carmela Vaccaro (UniFe) Le risorse idriche della pianura ferrar
 ese
 Romeo Farinella (UniFe): Ritornare all'acqua\, progettaere la comple
 ssità
 Corrado Oddi (Forum Ferrara Partecipata): La gestione del servizi
 o idrico nella provincia di Ferrara. l'opportunità per la sua ripubbliciz
 zazione
DTSTART:20260416T160000Z
DTEND:20260416T173000Z
DTSTAMP:20260421T190526Z
ORGANIZER;CN=Factory Grisù:MAILTO:info@factorygrisu.it
END:VEVENT
END:VCALENDAR