BEGIN:VCALENDAR
VERSION:2.0
PRODID:Events Booking
BEGIN:VEVENT
UID:69e821cf3f971
SUMMARY:CIAO CIAO GRISÙ - co-progettazione
DESCRIPTION:CIAO CIAO GRISÙ\, interrogandosi su governance\, reti locali\,
  ruolo delle imprese e delle associazioni\, vuole innescare un processo ci
 vico in cui comunità\, istituzioni e imprese possano dialogare sul destin
 o degli spazi collettivi.&nbsp\;
DTSTART:20260605T120000Z
DTEND:20260605T160000Z
DTSTAMP:20260421T191210Z
ORGANIZER;CN=Factory Grisù:MAILTO:info@factorygrisu.it
END:VEVENT
END:VCALENDAR