BEGIN:VCALENDAR
VERSION:2.0
PRODID:Events Booking
BEGIN:VEVENT
UID:69e8217c66ea8
SUMMARY:Allevamenti intensivi\, ridchi per la salute e l'ambiente
DESCRIPTION:Un incontro con:Eva Rigonat (Veterinaria ISDE\, RECA): Allevame
 nti intensivi: inquinamento ambientale e rischi per la saluteSImana Savini
  (Grenpeace Italia): Allevamenti intensivi - un sistema malato e una propo
 sta di legge superataAngela Soriani (FFP Veterinaria) Allevamenti intensiv
 i nel ferrareseAndrea Bregoli (Agronomo): ALlevamenti e agricoltura
 &nbs
 p\;
DTSTART:20260429T160000Z
DTEND:20260429T180000Z
DTSTAMP:20260421T192041Z
ORGANIZER;CN=Factory Grisù:MAILTO:info@factorygrisu.it
END:VEVENT
END:VCALENDAR