BEGIN:VCALENDAR
VERSION:2.0
PRODID:Events Booking
BEGIN:VEVENT
UID:69e783218ff3e
SUMMARY:AD  ALTA VOCE! pranzo sociale
DESCRIPTION:?????? ???????&nbsp\;ore ??:??\, ?&nbsp\;contributo consigliato
  di 15 € (bevande escluse) ?️ I pasti del festival saranno 100% vegeta
 li&nbsp\;La prenotazione è caldamente gradita.&nbsp\;Prenotare scrivendo 
 ad Alessio: 3519202691 -&nbsp\;adaltavocefestival@gmail.com
 &nbsp\;
LOCATION:Via Mario Poledrelli\, 21\, 44121 Ferrara FE\, Italia
DTSTART:20260425T110000Z
DTEND:20260425T130000Z
DTSTAMP:20260421T081355Z
ORGANIZER;CN=Factory Grisù:MAILTO:info@factorygrisu.it
GEO:44.841875;11.608914
X-APPLE-STRUCTURED-LOCATION;VALUE=URI;X-ADDRESS=Via Mario Poledrelli\, 21\,
  44121 Ferrara FE\, Italia;X-APPLE-RADIUS=72;X-TITLE=Giardino Creativo:44.
 841875;11.608914
END:VEVENT
END:VCALENDAR