BEGIN:VCALENDAR
VERSION:2.0
PRODID:Events Booking
BEGIN:VEVENT
UID:69e818a1eee02
SUMMARY:AD ALTA VOCE! Laviniz Mancusi
DESCRIPTION:??.?? ??????????????! ????????????? ??? ????? ?? ??????? ??????
 ? La storia delle tre grandi Donne della Musica latinoamericana si intrecc
 ia alla sensibilità visceraledi Lavinia Mancusi\, cantautrice e interpret
 e capace di trasformare ogni brano in un messaggio diresistenza e speranza
 .
DTSTART:20260501T180000Z
DTEND:20260501T190000Z
DTSTAMP:20260421T182757Z
ORGANIZER;CN=Factory Grisù:MAILTO:info@factorygrisu.it
END:VEVENT
END:VCALENDAR