BEGIN:VCALENDAR
VERSION:2.0
PRODID:Events Booking
BEGIN:VEVENT
UID:69e819b1624d3
SUMMARY:AD ALTA VOCE! laboratorio
DESCRIPTION:è un’esperienza di canto collettivo che unisce il mondo dell
 ’improvvisazione circolare con la ricerca etnomusicologica e la ripropos
 izione del canto popolare dialettale e del mondo che Elisa Guarraggi svilu
 ppato nella pratica “folk circle singing”.
DTSTART:20260501T090000Z
DTEND:20260501T100000Z
DTSTAMP:20260421T181941Z
ORGANIZER;CN=Factory Grisù:MAILTO:info@factorygrisu.it
END:VEVENT
END:VCALENDAR