BEGIN:VCALENDAR
VERSION:2.0
PRODID:Events Booking
BEGIN:VEVENT
UID:69e8192a809c0
SUMMARY:AD ALTA VOCE! laboratorio
DESCRIPTION:??????????? ?? ????? ?? ?????? ????? Tabacchine del Salento ???
 ? ?? ??????? ????????
DTSTART:20260502T080000Z
DTEND:20260502T110000Z
DTSTAMP:20260421T183452Z
ORGANIZER;CN=Factory Grisù:MAILTO:info@factorygrisu.it
END:VEVENT
END:VCALENDAR