BEGIN:VCALENDAR
VERSION:2.0
PRODID:Events Booking
BEGIN:VEVENT
UID:69e7924455154
SUMMARY:AD ALTA VOCE! concerto
DESCRIPTION:??????? ???? ?????????? SPUTNIK ARTEMIDE&nbsp\;BAGOGA
DTSTART:20260425T130000Z
DTEND:20260425T210000Z
DTSTAMP:20260421T081907Z
ORGANIZER;CN=Factory Grisù:MAILTO:info@factorygrisu.it
END:VEVENT
END:VCALENDAR