BEGIN:VCALENDAR
VERSION:2.0
PRODID:Events Booking
BEGIN:VEVENT
UID:69e8192ab9a6a
SUMMARY:AD ALTA VOCE! concerto
DESCRIPTION:??.?? ?? ??? ?? ??????? ???????? selezione di brani ????? ?????
  live a cura di Rachele Andrioli\, cantautrice e polistrumentista
DTSTART:20260501T190000Z
DTEND:20260501T210000Z
DTSTAMP:20260421T183054Z
ORGANIZER;CN=Factory Grisù:MAILTO:info@factorygrisu.it
END:VEVENT
END:VCALENDAR