BEGIN:VCALENDAR
VERSION:2.0
PRODID:Events Booking
BEGIN:VEVENT
UID:69e8159e3e7e1
SUMMARY:AD ALTA VOCE! concerto
DESCRIPTION:?????? ?’???????? ????à… ??????? ????? ? ???? ?????? ?? ??
 ??????Un viaggio musicale attraverso i canti anarchici del XIX e XX secolo
 \, un repertorio che intreccia storie di lotta\, speranza e libertà.
DTSTART:20260501T150000Z
DTEND:20260501T170000Z
DTSTAMP:20260421T182417Z
ORGANIZER;CN=Factory Grisù:MAILTO:info@factorygrisu.it
END:VEVENT
END:VCALENDAR